BEGIN:VCALENDAR
VERSION:2.0
PRODID:-//ChamberMaster//Event Calendar 2.0//EN
METHOD:PUBLISH
X-PUBLISHED-TTL:P3D
REFRESH-INTERVAL:P3D
CALSCALE:GREGORIAN
BEGIN:VEVENT
DTSTART:20240323T160000Z
DTEND:20240323T173000Z
X-MICROSOFT-CDO-ALLDAYEVENT:FALSE
SUMMARY:Snook EEA Easter Egg Hunt
DESCRIPTION:Snook EEA will be hosting an Easter Egg Hunt (for all ages).  \n\nChalk Art\; Bubble Fun\; Storytime and Snacks.
X-ALT-DESC;FMTTYPE=text/html:Snook EEA will be hosting an Easter Egg Hunt (for all ages).&nbsp\;&nbsp\;<br />\nChalk Art\; Bubble Fun\; Storytime and Snacks.
LOCATION:Snook City Park
UID:e.2777.9359
SEQUENCE:3
DTSTAMP:20260421T080804Z
URL:http://burlesoncountytx.chambermaster.com/events/details/snook-eea-easter-egg-hunt-9359
END:VEVENT

END:VCALENDAR
